BEGIN:VCALENDAR
VERSION:2.0
PRODID:-//MN Mahjong - ECPv6.15.12.2//NONSGML v1.0//EN
CALSCALE:GREGORIAN
METHOD:PUBLISH
X-WR-CALNAME:MN Mahjong
X-ORIGINAL-URL:https://mnmahjong.com
X-WR-CALDESC:Events for MN Mahjong
REFRESH-INTERVAL;VALUE=DURATION:PT1H
X-Robots-Tag:noindex
X-PUBLISHED-TTL:PT1H
BEGIN:VTIMEZONE
TZID:America/Denver
BEGIN:DAYLIGHT
TZOFFSETFROM:-0700
TZOFFSETTO:-0600
TZNAME:MDT
DTSTART:20250309T090000
END:DAYLIGHT
BEGIN:STANDARD
TZOFFSETFROM:-0600
TZOFFSETTO:-0700
TZNAME:MST
DTSTART:20251102T080000
END:STANDARD
BEGIN:DAYLIGHT
TZOFFSETFROM:-0700
TZOFFSETTO:-0600
TZNAME:MDT
DTSTART:20260308T090000
END:DAYLIGHT
BEGIN:STANDARD
TZOFFSETFROM:-0600
TZOFFSETTO:-0700
TZNAME:MST
DTSTART:20261101T080000
END:STANDARD
BEGIN:DAYLIGHT
TZOFFSETFROM:-0700
TZOFFSETTO:-0600
TZNAME:MDT
DTSTART:20270314T090000
END:DAYLIGHT
BEGIN:STANDARD
TZOFFSETFROM:-0600
TZOFFSETTO:-0700
TZNAME:MST
DTSTART:20271107T080000
END:STANDARD
END:VTIMEZONE
BEGIN:VEVENT
DTSTART;TZID=America/Denver:20260413T180000
DTEND;TZID=America/Denver:20260413T210000
DTSTAMP:20260420T085429
CREATED:20251202T023337Z
LAST-MODIFIED:20260219T144137Z
UID:197-1776103200-1776114000@mnmahjong.com
SUMMARY:Beginner American Mah Jongg
DESCRIPTION:  \nWant to learn a fun and strategic game? American Mah Jongg\, like Rummy with tiles\, is exactly that. You will learn rules\, strategies\, and etiquette\, all while playing the game. Mah Jongg sets and handouts provided.
URL:https://mnmahjong.com/event/beginner-2-mah-jongg-winter-26/
LOCATION:St. Anthony Community Center\, 3301 Silver Lake Rd NE\, minneapolis\, 55418\, United States
CATEGORIES:American Style
ATTACH;FMTTYPE=image/jpeg:https://mnmahjong.com/wp-content/uploads/2025/12/1-Bam.jpg
ORGANIZER;CN="Tarri Levine":MAILTO:tarri.levine@gmail.com
END:VEVENT
END:VCALENDAR