BEGIN:VCALENDAR
VERSION:2.0
PRODID:-//MN Mahjong - ECPv6.15.12.2//NONSGML v1.0//EN
CALSCALE:GREGORIAN
METHOD:PUBLISH
X-ORIGINAL-URL:https://mnmahjong.com
X-WR-CALDESC:Events for MN Mahjong
REFRESH-INTERVAL;VALUE=DURATION:PT1H
X-Robots-Tag:noindex
X-PUBLISHED-TTL:PT1H
BEGIN:VTIMEZONE
TZID:America/Denver
BEGIN:DAYLIGHT
TZOFFSETFROM:-0700
TZOFFSETTO:-0600
TZNAME:MDT
DTSTART:20250309T090000
END:DAYLIGHT
BEGIN:STANDARD
TZOFFSETFROM:-0600
TZOFFSETTO:-0700
TZNAME:MST
DTSTART:20251102T080000
END:STANDARD
BEGIN:DAYLIGHT
TZOFFSETFROM:-0700
TZOFFSETTO:-0600
TZNAME:MDT
DTSTART:20260308T090000
END:DAYLIGHT
BEGIN:STANDARD
TZOFFSETFROM:-0600
TZOFFSETTO:-0700
TZNAME:MST
DTSTART:20261101T080000
END:STANDARD
BEGIN:DAYLIGHT
TZOFFSETFROM:-0700
TZOFFSETTO:-0600
TZNAME:MDT
DTSTART:20270314T090000
END:DAYLIGHT
BEGIN:STANDARD
TZOFFSETFROM:-0600
TZOFFSETTO:-0700
TZNAME:MST
DTSTART:20271107T080000
END:STANDARD
END:VTIMEZONE
BEGIN:VEVENT
DTSTART;TZID=America/Denver:20260421T090000
DTEND;TZID=America/Denver:20260421T140000
DTSTAMP:20260420T090036
CREATED:20251202T023038Z
LAST-MODIFIED:20260219T143137Z
UID:194-1776762000-1776780000@mnmahjong.com
SUMMARY:Beginner American Mah Jongg
DESCRIPTION:  \nThis stimulating game is easy to learn and a challenge to master. It’s a social game of skill\, strategy\, and luck. Mah Jongg will keep you quick on your toes! Tiles provided. Instructor Tarri Levine is patient and has a great love for teaching the game. She shares her knowledge of the game in a fun\, low-pressure environment. \nLearn rules\, strategies and etiquette while playing the game. The class will be taught using previous year’s National Mah Jongg League cards.
URL:https://mnmahjong.com/event/beginner-mah-jongg-winter-26/
LOCATION:New Brighton Community Center\, 400 10th Street NW\, New Brighton\, MN\, 55112\, United States
CATEGORIES:American Style
ATTACH;FMTTYPE=image/jpeg:https://mnmahjong.com/wp-content/uploads/2025/12/1-Bam.jpg
ORGANIZER;CN="Tarri Levine":MAILTO:tarri.levine@gmail.com
END:VEVENT
END:VCALENDAR