BEGIN:VCALENDAR
VERSION:2.0
PRODID:-//MN Mahjong - ECPv6.15.12.2//NONSGML v1.0//EN
CALSCALE:GREGORIAN
METHOD:PUBLISH
X-WR-CALNAME:MN Mahjong
X-ORIGINAL-URL:https://mnmahjong.com
X-WR-CALDESC:Events for MN Mahjong
REFRESH-INTERVAL;VALUE=DURATION:PT1H
X-Robots-Tag:noindex
X-PUBLISHED-TTL:PT1H
BEGIN:VTIMEZONE
TZID:America/Denver
BEGIN:DAYLIGHT
TZOFFSETFROM:-0700
TZOFFSETTO:-0600
TZNAME:MDT
DTSTART:20250309T090000
END:DAYLIGHT
BEGIN:STANDARD
TZOFFSETFROM:-0600
TZOFFSETTO:-0700
TZNAME:MST
DTSTART:20251102T080000
END:STANDARD
BEGIN:DAYLIGHT
TZOFFSETFROM:-0700
TZOFFSETTO:-0600
TZNAME:MDT
DTSTART:20260308T090000
END:DAYLIGHT
BEGIN:STANDARD
TZOFFSETFROM:-0600
TZOFFSETTO:-0700
TZNAME:MST
DTSTART:20261101T080000
END:STANDARD
BEGIN:DAYLIGHT
TZOFFSETFROM:-0700
TZOFFSETTO:-0600
TZNAME:MDT
DTSTART:20270314T090000
END:DAYLIGHT
BEGIN:STANDARD
TZOFFSETFROM:-0600
TZOFFSETTO:-0700
TZNAME:MST
DTSTART:20271107T080000
END:STANDARD
END:VTIMEZONE
BEGIN:VEVENT
DTSTART;TZID=America/Denver:20260302T180000
DTEND;TZID=America/Denver:20260302T200000
DTSTAMP:20260422T165735
CREATED:20251202T031103Z
LAST-MODIFIED:20251202T031103Z
UID:212-1772474400-1772481600@mnmahjong.com
SUMMARY:Japanese Riichi - Beginner Class
DESCRIPTION:Learn the classic game of mahjong for the very first time! Riichi Mahjong is a 4-player game of competition to be the first to collect a set of tiles and score more points than your opponents. This is a 2-session beginner class that provides step-by-step instruction to learning the rules of the game.
URL:https://mnmahjong.com/event/japanese-riichi-beginner-class-2/
LOCATION:New Brighton Community Center\, 400 10th Street NW\, New Brighton\, MN\, 55112\, United States
CATEGORIES:Japanese Riichi
ATTACH;FMTTYPE=image/jpeg:https://mnmahjong.com/wp-content/uploads/2025/11/1-Sou.jpg
END:VEVENT
BEGIN:VEVENT
DTSTART;TZID=America/Denver:20260121T090000
DTEND;TZID=America/Denver:20260121T120000
DTSTAMP:20260422T165735
CREATED:20251202T022130Z
LAST-MODIFIED:20251202T031209Z
UID:190-1768986000-1768996800@mnmahjong.com
SUMMARY:Learn How to Play Mah Jongg - Beginner II
DESCRIPTION:  \nPicking out a hand is one of the biggest challenges a new player faces when playing Mah Jongg. This class will focus on strategies on how to pick out a hand and ‘punting’ (changing hands mid-game) when playing Mah Jongg using the current NMJL card. Students provide their own 2025 NMJL card. Learning materials will be provided. \nPrerequisite: Completion of Learn to Play Mah Jongg Beg I or similar course. 
URL:https://mnmahjong.com/event/learn-how-to-play-mah-jongg-beginner-ii/
LOCATION:Aŋpétu Téča Education Center\, 1910 County Rd B W\, Roseville\, MN\, 55113\, United States
CATEGORIES:American Style
ATTACH;FMTTYPE=image/jpeg:https://mnmahjong.com/wp-content/uploads/2025/12/1-Bam.jpg
ORGANIZER;CN="Tarri Levine":MAILTO:tarri.levine@gmail.com
END:VEVENT
END:VCALENDAR