BEGIN:VCALENDAR
VERSION:2.0
PRODID:-//MN Mahjong - ECPv6.15.12.2//NONSGML v1.0//EN
CALSCALE:GREGORIAN
METHOD:PUBLISH
X-WR-CALNAME:MN Mahjong
X-ORIGINAL-URL:https://mnmahjong.com
X-WR-CALDESC:Events for MN Mahjong
REFRESH-INTERVAL;VALUE=DURATION:PT1H
X-Robots-Tag:noindex
X-PUBLISHED-TTL:PT1H
BEGIN:VTIMEZONE
TZID:America/Denver
BEGIN:DAYLIGHT
TZOFFSETFROM:-0700
TZOFFSETTO:-0600
TZNAME:MDT
DTSTART:20250309T090000
END:DAYLIGHT
BEGIN:STANDARD
TZOFFSETFROM:-0600
TZOFFSETTO:-0700
TZNAME:MST
DTSTART:20251102T080000
END:STANDARD
BEGIN:DAYLIGHT
TZOFFSETFROM:-0700
TZOFFSETTO:-0600
TZNAME:MDT
DTSTART:20260308T090000
END:DAYLIGHT
BEGIN:STANDARD
TZOFFSETFROM:-0600
TZOFFSETTO:-0700
TZNAME:MST
DTSTART:20261101T080000
END:STANDARD
BEGIN:DAYLIGHT
TZOFFSETFROM:-0700
TZOFFSETTO:-0600
TZNAME:MDT
DTSTART:20270314T090000
END:DAYLIGHT
BEGIN:STANDARD
TZOFFSETFROM:-0600
TZOFFSETTO:-0700
TZNAME:MST
DTSTART:20271107T080000
END:STANDARD
END:VTIMEZONE
BEGIN:VEVENT
DTSTART;TZID=America/Denver:20260601T080000
DTEND;TZID=America/Denver:20260601T170000
DTSTAMP:20260422T161038
CREATED:20260219T142531Z
LAST-MODIFIED:20260219T142753Z
UID:396-1780300800-1780333200@mnmahjong.com
SUMMARY:Japanese Riichi - Beginner Class
DESCRIPTION:Learn the classic game of mahjong for the very first time! Riichi Mahjong is a 4-player game of competition to be the first to collect a set of tiles and score more points than your opponents. This is a 2-session beginner class that provides step-by-step instruction to learning the rules of the game.
URL:https://mnmahjong.com/event/japanese-riichi-beginner-class-4/
LOCATION:New Brighton Community Center\, 400 10th Street NW\, New Brighton\, MN\, 55112\, United States
CATEGORIES:Japanese Riichi
ATTACH;FMTTYPE=image/jpeg:https://mnmahjong.com/wp-content/uploads/2025/11/1-Sou.jpg
END:VEVENT
END:VCALENDAR